BEGIN:VCALENDAR
VERSION:2.0
PRODID:-//Adler Graduate School - ECPv6.13.2.1//NONSGML v1.0//EN
CALSCALE:GREGORIAN
METHOD:PUBLISH
X-ORIGINAL-URL:https://www.alfredadler.edu
X-WR-CALDESC:Events for Adler Graduate School
REFRESH-INTERVAL;VALUE=DURATION:PT1H
X-Robots-Tag:noindex
X-PUBLISHED-TTL:PT1H
BEGIN:VTIMEZONE
TZID:UTC
BEGIN:STANDARD
TZOFFSETFROM:+0000
TZOFFSETTO:+0000
TZNAME:UTC
DTSTART:20250101T000000
END:STANDARD
END:VTIMEZONE
BEGIN:VEVENT
DTSTART;TZID=UTC:20250528T090000
DTEND;TZID=UTC:20250528T131500
DTSTAMP:20260423T083116
CREATED:20240819T172640Z
LAST-MODIFIED:20240819T172640Z
UID:7526-1748422800-1748438100@www.alfredadler.edu
SUMMARY:Ethics and Professionalism in Counseling: A Holistic Approach
DESCRIPTION:Join us for an insightful presentation on the crucial role of ethics in counseling. This session will delve into the foundational principles that guide ethical practice\, explore common ethical dilemmas\, and provide practical tools for ethical decision-making. Attendees will gain a thorough understanding of key ethical codes and standards\, learn to navigate complex situations with integrity\, and enhance their ability to provide ethical and professional care to clients. This presentation is designed for counselors\, therapists\, and mental health professionals seeking to enhance their ethical competence and ensure the highest standards of practice. Whether you are a seasoned professional or new to the field\, this session will provide valuable insights and practical strategies for maintaining ethical excellence in your work. \n\n\n\n\nObjectives: \n\nUnderstand the Fundamental Principles of Counseling Ethics:\nRecognize Ethical Codes and Standards:\nIdentify Common Ethical Dilemmas in Counseling:\nApply Ethical Decision-Making Models:\nRecognize the Importance of Continuing Education:\n\n\n\n\n\nPresenter: Dr. Antwan Player\, LPCC\, LMHC\, NCC \nDr. Antwan Player is an assistant professor at Adler Graduate School located in Minnetonka\, Minnesota\, and has 10+ years as a clinical counselor. Antwan holds two licenses\, one in Minnesota as a Licensed Professional Clinical Counselor (LPCC) and another in Florida as a Licensed Mental Health Counselor (LMHC). Antwan is a member of various organizations and was previously the Ethics Co-Chair for the Minnesota Counseling Association. From a clinical standpoint\, Dr. Player’s clinical philosophy focuses on helping individuals reach self-actualization. His clinical experience has afforded him the opportunity to work with a range of diverse populations\, including\, high-risk adolescents\, parenting enhancement\, and individuals of the LGBTQIA community to name a few.
URL:https://www.alfredadler.edu/event/ethics-and-professionalism-in-counseling-a-holistic-approach/
ATTACH;FMTTYPE=image/jpeg:https://www.alfredadler.edu/wp-content/uploads/2022/07/https___cdn.evbuc_.com_images_322303429_196419696212_1_original.jpg
ORGANIZER;CN="Asha Dickerson":MAILTO:asha.dickerson@alfredadler.edu
END:VEVENT
END:VCALENDAR