BEGIN:VCALENDAR
VERSION:2.0
PRODID:-//Adler Graduate School - ECPv6.13.2.1//NONSGML v1.0//EN
CALSCALE:GREGORIAN
METHOD:PUBLISH
X-ORIGINAL-URL:https://www.alfredadler.edu
X-WR-CALDESC:Events for Adler Graduate School
REFRESH-INTERVAL;VALUE=DURATION:PT1H
X-Robots-Tag:noindex
X-PUBLISHED-TTL:PT1H
BEGIN:VTIMEZONE
TZID:UTC
BEGIN:STANDARD
TZOFFSETFROM:+0000
TZOFFSETTO:+0000
TZNAME:UTC
DTSTART:20220101T000000
END:STANDARD
END:VTIMEZONE
BEGIN:VEVENT
DTSTART;TZID=UTC:20220121T110000
DTEND;TZID=UTC:20230317T123000
DTSTAMP:20260422T153217
CREATED:20211116T232422Z
LAST-MODIFIED:20211116T232422Z
UID:3121-1642762800-1679056200@www.alfredadler.edu
SUMMARY:Self-Regulation Deficits in Mental Health & Substance Use Treatment Setting
DESCRIPTION:A 15-Part Con. Ed. Training Series for Mental Health. Register for a 12 session certificate at 10% discount now . Or each as they appear. \nAbout this event \nSelf-regulation is the capacity of a person to control their attention\, thoughts\, feelings\, and behaviors. \nEmerging during infancy and evolving across the lifespan\, self-regulation requires a person to monitor\, manage\, and control their cognitive\, affective\, and physical responses to the world as it evolves around them. \nThe critical nature of self-regulation is emphasized by the fact that it predicts both short- and long-term outcomes across the lifespan in diverse contexts ranging from social situations to school and work. When deficits arise in this critical area of functioning\, several consequences can result. As such\, it is imperative for professionals to understand this important and complex topic. \nDesigned for professionals who work with clients impacted by mental health and/or substance use disorders\, this comprehensive\, Zoom-based training series\, features 15 different\, evidence-based livestream training modules that cover different aspects of self-regulation. \nEach of the comprehensive training webinars is approximately two-hours in length and accompanied by PowerPoint slides\, handouts\, and access to other resources. A diverse array of topics will be covered throughout this continuing education training series. \nParticipants have the option of taking a specific training in the series to obtain a certificate of attendance or completing all training webinars to earn a series completion certificate. In order to obtain the series completion certificate\, participants must attend a minimum of 12 out of 15 trainings in this series. \nTrainings that encompass this continuing education series include: \n• Self-Regulation Deficits and Prenatal Trauma – 1/21/2022 \n• Self-Regulation Deficits Among Children – 2/25/2022 exception-4th Friday \n• Self-Regulation Deficits and Trauma-and-Stressor and Attachment-Related Disorders -3/18/2022 \n• Self-Regulation Deficits and Executive Dysfunction -4/22/2022 because of Good Friday \n• Self-Regulation Deficits and Sleep Disturbances – 5/20/2022 \n• Self-Regulation Deficits and Neurodevelopmental Disorders -6/17/2022 \n• Self-Regulation Deficits and Traumatic Brain Injury (TBI)-7/15/2022 \n• Self-Regulation Deficits and Challenging and Problematic Behaviors – 8/19/2022 \n• Self-Regulation Deficits and Intimate Partner Violence – 9/16/2022 \n• Self-Regulation Deficits and Child Maltreatment -10/21/2022 \n• Self-Regulation Deficits and Parenting Behaviors-11/18/2022 \n• Self-Regulation Deficits and Mental Health Disorders – 12/26/2022 \n• Self-Regulation Deficits and Addictive Behaviors and Disorders – 1/20/2023 \n• Self-Regulation Deficits and Health Risk Behaviors and Challenges -2/17/2023 \n• Self-Regulation-Informed Leadership\, Employee\, and Self-Care Practices -3/17/2023 \nAs evidenced by the following learning objectives\, attendance has the potential to improve short- and long-term outcomes for clients impacted by self-regulation deficits: \n1. Develop a working knowledge of self-regulation and its related constructs and its implications throughout the life span \n2. Identify possible causes and risk factors for self-regulation deficits \n3. Discuss developmental and neurobiological considerations in the manifestation of self-regulation deficits \n4. Review disorders and conditions that are commonly comorbid with self-regulation deficits \n5. Articulate the wide-ranging deleterious impact of self-regulation deficits on an individual’s behavioral\, emotional\, social\, and physical health \n6. Learn about the impact self-regulation deficits have on the entire family system \n7. Explore the challenges that helping professionals face when working with clients impacted by self-regulation deficits \n8. Review intervention and screening options for use with clients impacted by self-regulation deficits \n9. Learn about the impact self-regulation deficits have on various special population groups (e.g.\, ADHD\, ASD\, ID\, FASD\, SPMI\, and TBI) \n10. Examine relevant research findings \nYou are registering for a full 12 session certificate by choosing one of the tickets in the full certificate registration. As each session is offered thereafter \, there will be a special ticket for each full registrant from which you may choose to attend\, at no further cost\, until you have completed 12 sessions. Watch for individual session to also appear monthly. If you complete this registration you will have received a 10% discount for the series. Zoom Invitations will se emailed the Thursday before each event. \nJerrod Brown\, Ph.D.\, is an Assistant Professor\, Program Director\, and lead developer for the Master of Arts degree in Human Services with an emphasis in Forensic Behavioral Health for Concordia University\, St. Paul\, Minnesota. Jerrod has also been employed with Pathways Counseling Center in St. Paul\, Minnesota for the past seventeen years. Pathways provides programs and services benefitting individuals impacted by mental illness and addictions. Through his work at Pathways\, Jerrod has extensive experience working with clients diagnosed with neurodevelopmental disorders\, serious and persistent mental health (SPMI) conditions\, trauma and stressor related disorders\, substance use and other addictive disorders\, sleep disorders\, and criminal justice-involved populations. Jerrod is also the founder and CEO of the American Institute for the Advancement of Forensic Studies (AIAFS) and the Editor-in-Chief of Forensic Scholars Today (FST). Jerrod has completed four separate master’s degree programs and holds graduate certificates in Autism Spectrum Disorder (ASD)\, Other Health Disabilities (OHD)\, and Traumatic-Brain Injuries (TBI). Jerrod is also certified as a Brain Health Coach\, Trauma Professional\, Compassion Fatigue Professional\, Youth Firesetting Prevention/Intervention Specialist\, an Anger Resolution Therapist (CART)\, a Thinking for a Change (T4C) Facilitator\, a Fetal Alcohol Spectrum Disorders (FASD) Trainer\, an Autism Specialist\, Digestive Health Specialist\, Gut Health Specialist\, Stress and Mindset Coach\, Holistic Health Coach\, Sleep Science Coach\, Sex Crimes & Relational Paraphilic Attachments (RPA)\, Mental Health Integrative Medicine Provider (CMHIMP)\, and a Problem Gambling Treatment Provider in the state of Minnesota. Jerrod has published numerous articles and book chapters. Email: Jerrod01234Brown@live.com
URL:https://www.alfredadler.edu/event/self-regulation-deficits-in-mental-health-substance-use-treatment-setting/
ATTACH;FMTTYPE=image/jpeg:https://www.alfredadler.edu/wp-content/uploads/2021/11/https___cdn.evbuc_.com_images_183659429_196419696212_1_original.jpg
ORGANIZER;CN="Ev Haas":MAILTO:ev@alfredadler.edu
END:VEVENT
BEGIN:VEVENT
DTSTART;TZID=UTC:20220701T110000
DTEND;TZID=UTC:20220701T133000
DTSTAMP:20260422T153217
CREATED:20220524T173238Z
LAST-MODIFIED:20220524T173238Z
UID:5099-1656673200-1656682200@www.alfredadler.edu
SUMMARY:Eating Disorders and Negative Body Image - Part 1
DESCRIPTION:According to the National Institute of Mental Health: \nThere is a commonly held misconception that eating disorders are a lifestyle choice. Eating disorders are actually serious and often fatal illnesses that are associated with severe disturbances in people’s eating behaviors and related thoughts and emotions. Preoccupation with food\, body weight\, and shape may also signal an eating disorder. Common eating disorders include anorexia nervosa\, bulimia nervosa\, and binge-eating disorder. \nThis workshop will educate the participants on the methods of recognizing and working with eating disorders and negative body image to help them understand the effects on a family system that an eating disorder diagnosis has. \n2 CE’s MFT pending \n\n\nThe participants will learn how to recognize disorders in clients and their families \nThe participants will learn specific skills to work with the clients. \nThe participants will learn specific skills to work with the families of clients \n  \n\n\nVanessa Sovine is an alumna of Adler Graduate School and a licensed Marriage and Family Therapist. She earned her PhD from the Chicago School of Professional Psychology with an emphasis on international psychology and trauma. Her doctoral thesis was written on cross cultural body image development. She spent part of her career working at the Emily Program working with clients with eating disorders.
URL:https://www.alfredadler.edu/event/eating-disorders-and-negative-body-image-part-1/
ATTACH;FMTTYPE=image/jpeg:https://www.alfredadler.edu/wp-content/uploads/2022/05/https___cdn.evbuc_.com_images_290520409_196419696212_1_original.jpg
ORGANIZER;CN="Ev Haas":MAILTO:ev@alfredadler.edu
END:VEVENT
BEGIN:VEVENT
DTSTART;TZID=UTC:20220708T110000
DTEND;TZID=UTC:20220708T133000
DTSTAMP:20260422T153217
CREATED:20220524T173857Z
LAST-MODIFIED:20220524T173857Z
UID:5102-1657278000-1657287000@www.alfredadler.edu
SUMMARY:Eating Disorders and Negative Body Image - Part 2
DESCRIPTION:According to the National Institute of Mental Health: \nThere is a commonly held misconception that eating disorders are a lifestyle choice. Eating disorders are actually serious and often fatal illnesses that are associated with severe disturbances in people’s eating behaviors and related thoughts and emotions. Preoccupation with food\, body weight\, and shape may also signal an eating disorder. Common eating disorders include anorexia nervosa\, bulimia nervosa\, and binge-eating disorder. \nThis workshop will educate the participants on the methods of recognizing and working with eating disorders and negative body image to help them understand the effects on a family system that an eating disorder diagnosis has. \n2 CE’s MFT Pending \n\n\nThe participants will learn how to recognize disorders in clients and their families \nThe participants will learn specific skills to work with the clients. \nThe participants will learn specific skills to work with the families of clients \n  \n\n\nVanessa Sovine is an alumna of Adler Graduate School and a licensed Marriage and Family Therapist. She earned her PhD from the Chicago School of Professional Psychology with an emphasis on international psychology and trauma. Her doctoral thesis was written on cross cultural body image development. She spent part of her career working at the Emily Program working with clients with eating disorders.
URL:https://www.alfredadler.edu/event/eating-disorders-and-negative-body-image-part-2/
ATTACH;FMTTYPE=image/jpeg:https://www.alfredadler.edu/wp-content/uploads/2022/05/https___cdn.evbuc_.com_images_290520409_196419696212_1_original.jpg
ORGANIZER;CN="Ev Haas":MAILTO:ev@alfredadler.edu
END:VEVENT
BEGIN:VEVENT
DTSTART;TZID=UTC:20220712T180000
DTEND;TZID=UTC:20220802T210000
DTSTAMP:20260422T153217
CREATED:20220614T174115Z
LAST-MODIFIED:20220614T174249Z
UID:5159-1657648800-1659474000@www.alfredadler.edu
SUMMARY:Clinical Supervision Training
DESCRIPTION:This course provides 45 hours of training in clinical supervision. The course covers major models of clinical supervision; development and maintenance of the supervisor-supervisee relationship; ethical and legal aspects in clinical supervision; cultural competence in clinical supervision; and structuring\, intervention\, and evaluation practices in clinical supervision. Upon successful completion of this course\, students will: 1. Distinguish the central role of clinical supervision in providing superior clinical services through improving client welfare\, ensuring informed consent and honoring client rights. 2. Distinguish factors that generate positive supervisory relationships from their inception\, including informed consent for supervision\, management of expectations\, and appropriate professional boundaries. 3. Demonstrate understanding of the ethical\, legal\, advocacy and gatekeeping responsibilities of clinical supervisors. 4. Assess power dynamics in the supervisory relationship and consider issues of diversity\, equity and inclusion. 5. Demonstrate commitment to cross-cultural responsiveness in all supervisory relationships. 6. Generate\, and demonstrate commitment to\, fulfillment of key supervisory responsibilities\, to include ensuring informed consent for supervision\, completing and referencing the supervision contract\, modeling ethics and boundaries\, and serving as a gatekeeper for the counseling profession. 7. Articulate a personal model of clinical supervision\, drawn from existing models of supervision and preferred styles of therapy and supervision. The course meets the Minnesota Board of Behavioral Health and Therapy educational requirements for Professional Counselors (LPCs and LPCCs) and exceeds requirements for Alcohol & Drug Counselors who intend to seek the approved-supervisor credential. The course does NOT meet requirements for the AAMFT approved-supervisor credential\, as only courses provided directly by the AAMFT meet those requirements. This course meets on Zoom and includes additional assignments to be completed online. \nRequired text:Fundamentals of Clinical Supervision (6th Edition) (What’s New in Counseling) 6th Edition By Janine M. Bernard (Author)\, Rodney K. Goodyear (Author) · Publisher: Pearson; 6 edition (January 22\, 2018)· ISBN-13: 9780134790282· ISBN-13: 9780134752518 \n*Please note ticket sales are only available up to 1 week prior to event to allow time for the book to be ordered and arrive before class begins. Adler Graduate School has been approved by NBCC as an Approved Continuing Education Provider\, ACEP No. 6915. Programs that do not qualify for NBCC credit are clearly identified. Adler Graduate School is solely responsible for all aspects of the programs. \n  \n\n\n\n\nThe course will meet 4 times on Tuesday evenings\, from July 12 to August 2nd. From 6-9:00pm. The dates are July12th\, 19th\, 26th and August 2nd. \nThe rest of the 45 hour CE training will be as follows: \n12 hours = in class times \n12 hours= required readings \n4 hours= survey/quiz at the end of class \n4 hours= participation each class time \n4 hours= case studies \n9 hours= class assignments \n  \n\n\n\n\nBrittany Hamann\, PsyD\, LPCC (she/her) is a doctoral level psychologist and a licensed professional clinical counselor serving greater rural Minnesota in private practice. She received a doctorate degree in counseling psychology from Saint Mary’s University in Minneapolis\, MN and a master’s degree in clinical psychology from the Minnesota School of Professional Psychology at Argosy University. She has practiced counseling in many levels of care including inpatient psychiatric units\, residential treatment\, intensive outpatient care and rural health care. Dr. Hamann’s doctoral research titled “Dismissing a Supervisee: The experience of the clinical supervisor” examined the experiences of clinical supervisors who had dismissed a supervisee who was also a student. The focus of this work examined the decision-making process and their overall experiences. A Minnesota Board of Behavioral Health and Therapy Approved Clinical Supervisor\, Brittany has been involved in clinical supervision practice\, research\, and has taught graduate level courses in best practice clinical supervision.
URL:https://www.alfredadler.edu/event/clinical-supervision-training/
ATTACH;FMTTYPE=image/png:https://www.alfredadler.edu/wp-content/uploads/2021/11/newsletter-photo-1.png
ORGANIZER;CN="Ev Haas":MAILTO:ev@alfredadler.edu
END:VEVENT
BEGIN:VEVENT
DTSTART;TZID=UTC:20220715T110000
DTEND;TZID=UTC:20220715T133000
DTSTAMP:20260422T153217
CREATED:20220608T172100Z
LAST-MODIFIED:20220608T172100Z
UID:5152-1657882800-1657891800@www.alfredadler.edu
SUMMARY:Self-Regulation Deficits and Traumatic Brain Injury #7
DESCRIPTION:Self-regulation abilities are critical to a diverse range of emotional\, behavioral\, social\, and physical health functions. When self-regulation abilities are compromised\, the likelihood of several short- and long-term outcomes such as problematic behaviors and risky decision-making increases. Designed for professionals working in mental health and substance use treatment settings\, this training provides attendees with a working understanding of the causes\, consequences\, and interventions associated with self-regulation deficits among persons diagnosed with a traumatic-brain injury (TBI). A review of screening and intervention options appropriate for persons impacted by these issues will be discussed. Other related topics such as insomnia\, fatigue\, motivational deficits\, executive functioning impairments\, adaptive functioning limitations\, alexithymia\, and screen time misuse will be examined during this workshop. Empirically based research findings will be highlighted throughout this training. \n\n\n\n\nTraining Objectives: \n1. Define self-regulation and other related constructs \n2. Define Traumatic Brain Injury \n3. Examine the causes and consequences associated with self-regulation deficits and traumatic-brain injury (TBI) \n4. Examine the impact these topics have on clients receiving services from mental health and substance misuse treatment providers \n5. Discuss screening and intervention considerations \n6. Review relevant and up-to-date research findings \n  \n\n\n\n\nJerrod Brown\, Ph.D.\, is an Assistant Professor\, Program Director\, and lead developer for the Master of Arts degree in Human Services with an emphasis in Forensic Behavioral Health for Concordia University\, St. Paul\, Minnesota. Jerrod has also been employed with Pathways Counseling Center in St. Paul\, Minnesota for the past seventeen years. Pathways provides programs and services benefitting individuals impacted by mental illness and addictions. Through his work at Pathways\, Jerrod has extensive experience working with clients diagnosed with neurodevelopmental disorders\, serious and persistent mental health (SPMI) conditions\, trauma and stressor related disorders\, substance use and other addictive disorders\, sleep disorders\, and criminal justice-involved populations. Jerrod is also the founder and CEO of the American Institute for the Advancement of Forensic Studies (AIAFS) and the Editor-in-Chief of Forensic Scholars Today (FST). Jerrod has completed four separate master’s degree programs and holds graduate certificates in Autism Spectrum Disorder (ASD)\, Other Health Disabilities (OHD)\, and Traumatic-Brain Injuries (TBI). Jerrod is also certified as a Brain Health Coach\, Trauma Professional\, Compassion Fatigue Professional\, Youth Firesetting Prevention/Intervention Specialist\, an Anger Resolution Therapist (CART)\, a Thinking for a Change (T4C) Facilitator\, a Fetal Alcohol Spectrum Disorders (FASD) Trainer\, an Autism Specialist\, Digestive Health Specialist\, Gut Health Specialist\, Stress and Mindset Coach\, Holistic Health Coach\, Sleep Science Coach\, Sex Crimes & Relational Paraphilic Attachments (RPA)\, Mental Health Integrative Medicine Provider (CMHIMP)\, and a Problem Gambling Treatment Provider in the state of Minnesota. Jerrod has published numerous articles and book chapters. Email: Jerrod01234Brown@live.com
URL:https://www.alfredadler.edu/event/self-regulation-deficits-and-traumatic-brain-injury-7/
ATTACH;FMTTYPE=image/jpeg:https://www.alfredadler.edu/wp-content/uploads/2022/06/https___cdn.evbuc_.com_images_299427749_196419696212_1_original.jpg
ORGANIZER;CN="Ev Haas":MAILTO:ev@alfredadler.edu
END:VEVENT
END:VCALENDAR