BEGIN:VCALENDAR
VERSION:2.0
PRODID:-//Adler Graduate School - ECPv6.13.2.1//NONSGML v1.0//EN
CALSCALE:GREGORIAN
METHOD:PUBLISH
X-WR-CALNAME:Adler Graduate School
X-ORIGINAL-URL:https://www.alfredadler.edu
X-WR-CALDESC:Events for Adler Graduate School
REFRESH-INTERVAL;VALUE=DURATION:PT1H
X-Robots-Tag:noindex
X-PUBLISHED-TTL:PT1H
BEGIN:VTIMEZONE
TZID:UTC
BEGIN:STANDARD
TZOFFSETFROM:+0000
TZOFFSETTO:+0000
TZNAME:UTC
DTSTART:20250101T000000
END:STANDARD
END:VTIMEZONE
BEGIN:VEVENT
DTSTART;TZID=UTC:20250117T110000
DTEND;TZID=UTC:20250117T143000
DTSTAMP:20260423T070917
CREATED:20240806T173053Z
LAST-MODIFIED:20240806T173053Z
UID:7502-1737111600-1737124200@www.alfredadler.edu
SUMMARY:Using the Goals of Misbehavior and the Adlerian 7-Step Consultation Process
DESCRIPTION:When working with couples and families\, this is an invaluable skill in helping individuals respond strategically rather than reactively to perceived misbehavior in that its use can lead to greater feeling of belonging and contributing. \nUnderstanding the Goals of Misbehavior and utilizing this knowledge in classroom applications and counseling situations is a critical skill. Using the Seven Step Consultation Process of Dinkmeyer and Carlson\, participants will be provided a basic understanding of the Goals of Misbehavior and how to use the Consultation process in helping our colleagues\, students\, and clients identify goals of misbehavior (Attention\, Power\, Revenge\, and Display of Inadequacy) How to respond strategically/proactively rather than reactively will be emphasized. The Consultation Process may be demonstrated with an actual person\, with participants providing their observation and insights during the process \n\n\n\n\nParticipants will be able to \n1.Identify the Goals of Misbehavior and how to determine which are in play. \n2. Understand the steps in an effective Consultation Process \n3. Participate in an actual consultation experience with their colleagues. \n  \n\n\n\n\nDoug Pelcak received his MA from the University of Minnesota in Counseling and Student Personnel Psychology in 1983. \nHe is an Elementary Counselor for Glen Lake School in Minnetonka\, MN and a Staff Therapist at the Institute for Therapy In Edina\, Minnesota. \nHe is a current faculty member at the Adler Graduate School in Minnesota.
URL:https://www.alfredadler.edu/event/using-the-goals-of-misbehavior-and-the-adlerian-7-step-consultation-process/
ATTACH;FMTTYPE=image/png:https://www.alfredadler.edu/wp-content/uploads/2024/08/2024-08-06-12_30_09-Window.png
ORGANIZER;CN="Asha Dickerson":MAILTO:asha.dickerson@alfredadler.edu
END:VEVENT
END:VCALENDAR